BEGIN:VCALENDAR
VERSION:2.0
PRODID:-//wp-events-plugin.com//7.2.3.1//EN
TZID:Europe/Paris
X-WR-TIMEZONE:Europe/Paris
BEGIN:VEVENT
UID:55@elitelink.fr
DTSTART;TZID=Europe/Paris:20260527T100000
DTEND;TZID=Europe/Paris:20260531T190000
DTSTAMP:20260416T154833Z
URL:https://elitelink.fr/events/voiles-antibes-2026/
SUMMARY:Les Voiles d’Antibes – 30e anniversaire
DESCRIPTION:Du 27 au 31 mai 2026\, Antibes accueille la 30e édition des Vo
 iles d’Antibes\, grand rendez-vous du patrimoine maritime méditerranée
 n\, avec un Village ouvert gratuitement au public.
ATTACH;FMTTYPE=image/jpeg:https://elitelink.fr/wp-content/uploads/2026/04/
 LES-VOILES-antibes-2026-1.jpg
CATEGORIES:Culture &amp; patrimoine,Événements Grand Public,Événements
 internationaux,Méditerranée,Salons nautiques,Tourisme &amp; Loisirs
LOCATION:Esplanade du Bastion Saint-Jaume\, Antibes\, 06200\, France
GEO:43.687748;7.211361
X-APPLE-STRUCTURED-LOCATION;VALUE=URI;X-ADDRESS=Antibes\, 06200\, France;X-
 APPLE-RADIUS=100;X-TITLE=Esplanade du Bastion Saint-Jaume:geo:43.687748,7.
 211361
END:VEVENT
BEGIN:VTIMEZONE
TZID:Europe/Paris
X-LIC-LOCATION:Europe/Paris
BEGIN:DAYLIGHT
DTSTART:20260329T030000
TZOFFSETFROM:+0100
TZOFFSETTO:+0200
TZNAME:CEST
END:DAYLIGHT
END:VTIMEZONE
END:VCALENDAR